BEGIN:VCALENDAR
VERSION:2.0
PRODID:-//eventon.com NONSGML v1.0//EN
CALSCALE:GREGORIAN
METHOD:PUBLISH
BEGIN:VEVENT
UID:69e74cf0dc68c
DTSTAMP:20260421T100952Z
DTSTART:20250726T193000Z
DTEND:20250726T235900Z
LOCATION:Abbazia Santa Maria del Bosco
SUMMARY:Show-cooking con Giusi Battaglia
DESCRIPTION:Show-cooking con Giusi Battaglia\nhttps://tswf.it/events/show-c
 ooking-con-giusi-battaglia/
URL:https://tswf.it/events/show-cooking-con-giusi-battaglia/
END:VEVENT
END:VCALENDAR